BEGIN:VCALENDAR
VERSION:2.0
PRODID:-//Skate Nova Scotia - ECPv6.15.20//NONSGML v1.0//EN
CALSCALE:GREGORIAN
METHOD:PUBLISH
X-ORIGINAL-URL:http://skatecanada.ns.ca
X-WR-CALDESC:Events for Skate Nova Scotia
REFRESH-INTERVAL;VALUE=DURATION:PT1H
X-Robots-Tag:noindex
X-PUBLISHED-TTL:PT1H
BEGIN:VTIMEZONE
TZID:America/Halifax
BEGIN:DAYLIGHT
TZOFFSETFROM:-0400
TZOFFSETTO:-0300
TZNAME:ADT
DTSTART:20240310T060000
END:DAYLIGHT
BEGIN:STANDARD
TZOFFSETFROM:-0300
TZOFFSETTO:-0400
TZNAME:AST
DTSTART:20241103T050000
END:STANDARD
BEGIN:DAYLIGHT
TZOFFSETFROM:-0400
TZOFFSETTO:-0300
TZNAME:ADT
DTSTART:20250309T060000
END:DAYLIGHT
BEGIN:STANDARD
TZOFFSETFROM:-0300
TZOFFSETTO:-0400
TZNAME:AST
DTSTART:20251102T050000
END:STANDARD
BEGIN:DAYLIGHT
TZOFFSETFROM:-0400
TZOFFSETTO:-0300
TZNAME:ADT
DTSTART:20260308T060000
END:DAYLIGHT
BEGIN:STANDARD
TZOFFSETFROM:-0300
TZOFFSETTO:-0400
TZNAME:AST
DTSTART:20261101T050000
END:STANDARD
BEGIN:DAYLIGHT
TZOFFSETFROM:-0400
TZOFFSETTO:-0300
TZNAME:ADT
DTSTART:20270314T060000
END:DAYLIGHT
BEGIN:STANDARD
TZOFFSETFROM:-0300
TZOFFSETTO:-0400
TZNAME:AST
DTSTART:20271107T050000
END:STANDARD
END:VTIMEZONE
BEGIN:VEVENT
DTSTART;VALUE=DATE:20251121
DTEND;VALUE=DATE:20251124
DTSTAMP:20260420T065538
CREATED:20250615T145755Z
LAST-MODIFIED:20250615T145755Z
UID:13309-1763683200-1763942399@skatecanada.ns.ca
SUMMARY:2025 Robert McCall Memorial
DESCRIPTION:PreNovice/Novice Challenge Qualifier \nAnnouncement Date: September 29\, 2025 \nRegistration Dates: October 10 – 15th\, 2025 \nPlanned Program Due Date: November 7th\, 2025
URL:http://skatecanada.ns.ca/event/2025-robert-mccall-memorial/
LOCATION:St. Margaret’s Centre\, 12 Westwood Blvd\,\, Upper Tantallon\, Nova Scotia\, B4Z 1H3\, Canada
END:VEVENT
BEGIN:VEVENT
DTSTART;VALUE=DATE:20251125
DTEND;VALUE=DATE:20251201
DTSTAMP:20260420T065538
CREATED:20250615T145959Z
LAST-MODIFIED:20250615T145959Z
UID:13310-1764028800-1764547199@skatecanada.ns.ca
SUMMARY:2025 Skate Canada Challenge
DESCRIPTION:Calgary\, Alberta
URL:http://skatecanada.ns.ca/event/2025-skate-canada-challenge/
END:VEVENT
BEGIN:VEVENT
DTSTART;VALUE=DATE:20251206
DTEND;VALUE=DATE:20251207
DTSTAMP:20260420T065538
CREATED:20250615T151520Z
LAST-MODIFIED:20250615T231359Z
UID:13311-1764979200-1765065599@skatecanada.ns.ca
SUMMARY:Digby Star 1-3
DESCRIPTION:  \nAnnouncement Date: October 10th\, 2025 \nRegistration Dates: October 31st– November 4th\, 2025 \nPlanned Program Due Date: November 28th\, 2025
URL:http://skatecanada.ns.ca/event/digby-star-1-3/
LOCATION:Digby Area Arena\, 27 Shreve Street\, Digby\, Nova Scotia\, B0V 1A0\, Canada
END:VEVENT
BEGIN:VEVENT
DTSTART;VALUE=DATE:20260105
DTEND;VALUE=DATE:20260112
DTSTAMP:20260420T065538
CREATED:20250615T152214Z
LAST-MODIFIED:20250615T152214Z
UID:13313-1767571200-1768175999@skatecanada.ns.ca
SUMMARY:2026 Skate Canada Nationals
DESCRIPTION:Gatineau\, QC
URL:http://skatecanada.ns.ca/event/2026-skate-canada-nationals/
END:VEVENT
BEGIN:VEVENT
DTSTART;VALUE=DATE:20260123
DTEND;VALUE=DATE:20260126
DTSTAMP:20260420T065538
CREATED:20250615T152532Z
LAST-MODIFIED:20250615T152532Z
UID:13315-1769126400-1769385599@skatecanada.ns.ca
SUMMARY:2026 WinterSkate
DESCRIPTION:  \nAnnouncement Date: November 24th\, 2025 \nRegistration Dates: December 5th – 9th\, 2025 \nPlanned Program Due Date: January 9th\, 2026
URL:http://skatecanada.ns.ca/event/2026-winterskate/
LOCATION:Queens Place Emera Center\, 50 Queens Place Drive\, Liverpool\, Nova Scotia\, B0T 1K0\, Canada
END:VEVENT
BEGIN:VEVENT
DTSTART;VALUE=DATE:20260124
DTEND;VALUE=DATE:20260126
DTSTAMP:20260420T065538
CREATED:20250615T152316Z
LAST-MODIFIED:20250615T152316Z
UID:13314-1769212800-1769385599@skatecanada.ns.ca
SUMMARY:2026 Atlantic Regional Synchro Championships
DESCRIPTION:
URL:http://skatecanada.ns.ca/event/2026-atlantic-regional-synchro-championships/
END:VEVENT
BEGIN:VEVENT
DTSTART;VALUE=DATE:20260131
DTEND;VALUE=DATE:20260201
DTSTAMP:20260420T065538
CREATED:20250615T152846Z
LAST-MODIFIED:20250615T152857Z
UID:13316-1769817600-1769903999@skatecanada.ns.ca
SUMMARY:HSC/BSC Star 1-3
DESCRIPTION:  \nAnnouncement Date: December 5th\, 2025 \nRegistration Dates: December 19th – 23rd\, 2025 \nPlanned Program Due Date: January 16th\, 2025
URL:http://skatecanada.ns.ca/event/hsc-bsc-star-1-3/
LOCATION:Greenfoot Energy Centre\, 61 Gary Martin Drive\, Bedford\, Nova Scotia\, B4B 1G7\, Canada
END:VEVENT
BEGIN:VEVENT
DTSTART;VALUE=DATE:20260202
DTEND;VALUE=DATE:20260209
DTSTAMP:20260420T065539
CREATED:20250615T153657Z
LAST-MODIFIED:20250615T153657Z
UID:13318-1769990400-1770595199@skatecanada.ns.ca
SUMMARY:2026 Skate Canada Trophy
DESCRIPTION:Dartmouth Nova Scotia
URL:http://skatecanada.ns.ca/event/2026-skate-canada-trophy/
LOCATION:RBC Centre\, 259 Commodore Drive\, Dartmouth\, Nova Scotia\, B3B 0M1\, Canada
END:VEVENT
BEGIN:VEVENT
DTSTART;VALUE=DATE:20260216
DTEND;VALUE=DATE:20260217
DTSTAMP:20260420T065539
CREATED:20250615T153832Z
LAST-MODIFIED:20260108T183517Z
UID:13320-1771200000-1771286399@skatecanada.ns.ca
SUMMARY:Riverview Star 1-3
DESCRIPTION:  \nAnnouncement Date: December 30th\, 2025 \nRegistration Dates: January 9th – 20th\, 2026 \nPlanned Program Due Date: February 6th\, 2026
URL:http://skatecanada.ns.ca/event/riverview-star-1-3/
END:VEVENT
BEGIN:VEVENT
DTSTART;VALUE=DATE:20260227
DTEND;VALUE=DATE:20260302
DTSTAMP:20260420T065539
CREATED:20250615T154345Z
LAST-MODIFIED:20250615T154345Z
UID:13322-1772150400-1772409599@skatecanada.ns.ca
SUMMARY:2026 SNS Provincials
DESCRIPTION:  \nAnnouncement Date: January 5th\, 2026 \nRegistration Dates: January 23rd-27th\, 2026 \nPlanned Program Due Date: February 13th\, 2026
URL:http://skatecanada.ns.ca/event/2026-sns-provincials/
LOCATION:Amherst Stadium\, 185 Church Street\, Amherst\, Amherst\, B4H 3C7\, Canada
END:VEVENT
BEGIN:VEVENT
DTSTART;VALUE=DATE:20260227
DTEND;VALUE=DATE:20260302
DTSTAMP:20260420T065539
CREATED:20250615T154432Z
LAST-MODIFIED:20250615T154432Z
UID:13324-1772150400-1772409599@skatecanada.ns.ca
SUMMARY:2026 Canada Cup
DESCRIPTION:Waterloo On
URL:http://skatecanada.ns.ca/event/2026-canada-cup/
END:VEVENT
BEGIN:VEVENT
DTSTART;VALUE=DATE:20260321
DTEND;VALUE=DATE:20260322
DTSTAMP:20260420T065539
CREATED:20250615T154808Z
LAST-MODIFIED:20250615T154808Z
UID:13328-1774051200-1774137599@skatecanada.ns.ca
SUMMARY:Mariposa East Star 1-3
DESCRIPTION:Announcement Date: January 30th\, 2026 \nRegistration Dates: February 13th – 17th\, 2026 \nPlanned Program Due Date: March 6th\, 2026
URL:http://skatecanada.ns.ca/event/mariposa-east-star-1-3/
LOCATION:Pictou Wellness Center\, 2756 Westville Road RR3\, New Glasgow\, Nova Scotia\, B2H 5C6\, Canada
END:VEVENT
BEGIN:VEVENT
DTSTART;VALUE=DATE:20260327
DTEND;VALUE=DATE:20260330
DTSTAMP:20260420T065539
CREATED:20250615T154926Z
LAST-MODIFIED:20260116T002015Z
UID:13331-1774569600-1774828799@skatecanada.ns.ca
SUMMARY:2026 Atlantic Canada Skating Championships
DESCRIPTION:Paradise\, NL
URL:http://skatecanada.ns.ca/event/2026-atlantic-canada-skating-championships/
END:VEVENT
END:VCALENDAR