BEGIN:VCALENDAR
VERSION:2.0
PRODID:-//Skate Nova Scotia - ECPv6.15.20//NONSGML v1.0//EN
CALSCALE:GREGORIAN
METHOD:PUBLISH
X-ORIGINAL-URL:http://skatecanada.ns.ca
X-WR-CALDESC:Events for Skate Nova Scotia
REFRESH-INTERVAL;VALUE=DURATION:PT1H
X-Robots-Tag:noindex
X-PUBLISHED-TTL:PT1H
BEGIN:VTIMEZONE
TZID:America/Halifax
BEGIN:DAYLIGHT
TZOFFSETFROM:-0400
TZOFFSETTO:-0300
TZNAME:ADT
DTSTART:20210314T060000
END:DAYLIGHT
BEGIN:STANDARD
TZOFFSETFROM:-0300
TZOFFSETTO:-0400
TZNAME:AST
DTSTART:20211107T050000
END:STANDARD
BEGIN:DAYLIGHT
TZOFFSETFROM:-0400
TZOFFSETTO:-0300
TZNAME:ADT
DTSTART:20220313T060000
END:DAYLIGHT
BEGIN:STANDARD
TZOFFSETFROM:-0300
TZOFFSETTO:-0400
TZNAME:AST
DTSTART:20221106T050000
END:STANDARD
BEGIN:DAYLIGHT
TZOFFSETFROM:-0400
TZOFFSETTO:-0300
TZNAME:ADT
DTSTART:20230312T060000
END:DAYLIGHT
BEGIN:STANDARD
TZOFFSETFROM:-0300
TZOFFSETTO:-0400
TZNAME:AST
DTSTART:20231105T050000
END:STANDARD
BEGIN:DAYLIGHT
TZOFFSETFROM:-0400
TZOFFSETTO:-0300
TZNAME:ADT
DTSTART:20240310T060000
END:DAYLIGHT
BEGIN:STANDARD
TZOFFSETFROM:-0300
TZOFFSETTO:-0400
TZNAME:AST
DTSTART:20241103T050000
END:STANDARD
END:VTIMEZONE
BEGIN:VEVENT
DTSTART;VALUE=DATE:20231025
DTEND;VALUE=DATE:20231030
DTSTAMP:20260424T073459
CREATED:20230714T054440Z
LAST-MODIFIED:20230714T054440Z
UID:11849-1698192000-1698623999@skatecanada.ns.ca
SUMMARY:Skate Canada International
DESCRIPTION:Hosted in Vancouver\, BC \nMore details coming soon
URL:http://skatecanada.ns.ca/event/skate-canada-international-2/
CATEGORIES:International,Skate Canada
END:VEVENT
BEGIN:VEVENT
DTSTART;VALUE=DATE:20221028
DTEND;VALUE=DATE:20221031
DTSTAMP:20260424T073459
CREATED:20220507T011517Z
LAST-MODIFIED:20230714T051519Z
UID:11346-1666915200-1667174399@skatecanada.ns.ca
SUMMARY:Skate Canada International
DESCRIPTION:October 28th to 30th 2022\, Mississauga Ontario
URL:http://skatecanada.ns.ca/event/skate-canada-international/
CATEGORIES:Dance,Gold,International,Junior,Juvenile,Novice,Pairs,Pre Juvenile,Pre Novice,Senior,Singles,Skate Canada
END:VEVENT
END:VCALENDAR