BEGIN:VCALENDAR
VERSION:2.0
PRODID:-//Skate Nova Scotia - ECPv6.15.20//NONSGML v1.0//EN
CALSCALE:GREGORIAN
METHOD:PUBLISH
X-ORIGINAL-URL:http://skatecanada.ns.ca
X-WR-CALDESC:Events for Skate Nova Scotia
REFRESH-INTERVAL;VALUE=DURATION:PT1H
X-Robots-Tag:noindex
X-PUBLISHED-TTL:PT1H
BEGIN:VTIMEZONE
TZID:America/Halifax
BEGIN:DAYLIGHT
TZOFFSETFROM:-0400
TZOFFSETTO:-0300
TZNAME:ADT
DTSTART:20210314T060000
END:DAYLIGHT
BEGIN:STANDARD
TZOFFSETFROM:-0300
TZOFFSETTO:-0400
TZNAME:AST
DTSTART:20211107T050000
END:STANDARD
BEGIN:DAYLIGHT
TZOFFSETFROM:-0400
TZOFFSETTO:-0300
TZNAME:ADT
DTSTART:20220313T060000
END:DAYLIGHT
BEGIN:STANDARD
TZOFFSETFROM:-0300
TZOFFSETTO:-0400
TZNAME:AST
DTSTART:20221106T050000
END:STANDARD
BEGIN:DAYLIGHT
TZOFFSETFROM:-0400
TZOFFSETTO:-0300
TZNAME:ADT
DTSTART:20230312T060000
END:DAYLIGHT
BEGIN:STANDARD
TZOFFSETFROM:-0300
TZOFFSETTO:-0400
TZNAME:AST
DTSTART:20231105T050000
END:STANDARD
BEGIN:DAYLIGHT
TZOFFSETFROM:-0400
TZOFFSETTO:-0300
TZNAME:ADT
DTSTART:20240310T060000
END:DAYLIGHT
BEGIN:STANDARD
TZOFFSETFROM:-0300
TZOFFSETTO:-0400
TZNAME:AST
DTSTART:20241103T050000
END:STANDARD
BEGIN:DAYLIGHT
TZOFFSETFROM:-0400
TZOFFSETTO:-0300
TZNAME:ADT
DTSTART:20250309T060000
END:DAYLIGHT
BEGIN:STANDARD
TZOFFSETFROM:-0300
TZOFFSETTO:-0400
TZNAME:AST
DTSTART:20251102T050000
END:STANDARD
END:VTIMEZONE
BEGIN:VEVENT
DTSTART;VALUE=DATE:20241004
DTEND;VALUE=DATE:20241007
DTSTAMP:20260422T084012
CREATED:20241103T185718Z
LAST-MODIFIED:20241103T191331Z
UID:12778-1728000000-1728259199@skatecanada.ns.ca
SUMMARY:2024 FallSkate
DESCRIPTION: skatecanadans.uplifterinc.com  – Registration \n\n\n\n2024 FallSkate Announcement \n\n\n\nPlanned-Program-Sheet \n\n\n\n2024 FallSkate Schedule \n\n\n\n2024 FallSkate Skater List \n\n\n\n2024 FallSkate Start Orders \n\n\n\n2024 FallSkate Results  \n\n\n\nLive Streaming Link \n\n\n\n\n\n\n\nFALLSKATE will be held at the Pictou Wellness Centre\, New Glasgow\, NS – October 4th – 6th 2024.\n\n\n\nThis event is the qualifying event for the Junior/Senior Challenge being held in Winnipeg late November.
URL:http://skatecanada.ns.ca/event/2024-fallskate/
LOCATION:Pictou Wellness Center\, 2756 Westville Road RR3\, New Glasgow\, Nova Scotia\, B2H 5C6\, Canada
CATEGORIES:Mariposa East SC,Skate NS
END:VEVENT
BEGIN:VEVENT
DTSTART;VALUE=DATE:20230211
DTEND;VALUE=DATE:20230213
DTSTAMP:20260422T084012
CREATED:20220507T012035Z
LAST-MODIFIED:20230714T050522Z
UID:11350-1676073600-1676246399@skatecanada.ns.ca
SUMMARY:Skate Nova Scotia Provincial Championships
DESCRIPTION:February 11th and 12th\, 2023 – Pictou Wellness Centre New Glasgow\, hosted by the Mariposa East Skating Centre. \nCategories Pre Juvenile to Senior\, STAR 4 to Gold in singles\, pairs and dance. \nThis event will be the qualifying event for the 2023 Atlantic Canada Skating Championships for STAR 5 to Gold and Pre Juvenile to Pre Novice
URL:http://skatecanada.ns.ca/event/skate-nova-scotia-provincial-championships/
LOCATION:Pictou Wellness Center\, 2756 Westville Road RR3\, New Glasgow\, Nova Scotia\, B2H 5C6\, Canada
CATEGORIES:Dance,Gold,Junior,Juvenile,Mariposa East SC,Novice,Pairs,Pre Juvenile,Pre Novice,Senior,Singles,Skate NS,Star 4+,Syncho
END:VEVENT
BEGIN:VEVENT
DTSTART;VALUE=DATE:20220410
DTEND;VALUE=DATE:20220411
DTSTAMP:20260422T084012
CREATED:20220216T233714Z
LAST-MODIFIED:20230714T051819Z
UID:11165-1649548800-1649635199@skatecanada.ns.ca
SUMMARY:2022 Mariposa East STAR 1-3 Sunday April 10th
DESCRIPTION:
URL:http://skatecanada.ns.ca/event/2022-mariposa-east-star-1-3-sunday-april-10th-2/
LOCATION:Nova Scotia
CATEGORIES:Dance,Mariposa East SC,Pairs,Singles,Skate NS,Star 1-3
END:VEVENT
BEGIN:VEVENT
DTSTART;TZID=America/Halifax:20220216T080000
DTEND;TZID=America/Halifax:20220216T170000
DTSTAMP:20260422T084012
CREATED:20220216T233524Z
LAST-MODIFIED:20230714T052134Z
UID:11163-1644998400-1645030800@skatecanada.ns.ca
SUMMARY:2022 Mariposa East STAR 1-3 Sunday April 10th
DESCRIPTION:Coming soon
URL:http://skatecanada.ns.ca/event/2022-mariposa-east-star-1-3-sunday-april-10th/
LOCATION:Nova Scotia
CATEGORIES:Dance,Mariposa East SC,Pairs,Singles,Skate NS,Star 1-3
END:VEVENT
END:VCALENDAR